BEGIN:VCALENDAR
VERSION:2.0
PRODID:icalendar-ruby
CALSCALE:GREGORIAN
METHOD:PUBLISH
BEGIN:VEVENT
DTSTAMP:20260423T221228Z
UID:13-1088273@fbcsoddydaisy.com
DTSTART:20261104T230000Z
DTEND:20261104T233000Z
CLASS:PUBLIC
CREATED:20260423T155138
DESCRIPTION:Join us as we gather together to pray and dig deeper into the W
 ord!
LAST-MODIFIED:20260423T155138
LOCATION:FBC Fellowship Hall
SUMMARY:Midweek Bible Study & Prayer
URL;VALUE=URI:https://fbcsoddydaisy.com/events/midweek-bible-study-prayer/2
 026-11-04
ATTACH;FILENAME=Wednesday.png;FMTTYPE=image/png:https://dq5pwpg1q8ru0.cloud
 front.net/2024/08/05/00/06/45/135efc23-ab50-488f-9de9-bdd5e12388b5/Wednesd
 ay.png
END:VEVENT
END:VCALENDAR
